BEGIN:VCALENDAR
VERSION:2.0
PRODID:-//eventon.com NONSGML v1.0//EN
CALSCALE:GREGORIAN
METHOD:PUBLISH
BEGIN:VEVENT
UID:69e85e46da86f
DTSTAMP:20260422T073606
DTSTART:20221206T190000Z
DTEND:20221206T203000Z
TZID:Europe/Budapest
LOCATION:
SUMMARY:Beűzetés a Paradicsomba - Igaz mesék
DESCRIPTION:Vajon mi a közös a hajléktalanból lett lottónyertesben\,  a hármas gyilkosságért harmincéves börtönbüntetését töltő elítéltben\,  a Down szindrómás szerelmespárban\,  a védett házban bujkáló bántalmazott anyában\,  a tanyán létminimum alatt élő férfiban\,  a demens édesanyját éjjel-nappal ápoló nőben…és bennünk? Mitől lesz igaz a mese? Ahogy Tóth Krisztina író\,  költő írja a[..]\nhttps://lovasut.hu/events/beuzetes-a-paradicsomba-igaz-mesek/
URL:https://lovasut.hu/events/beuzetes-a-paradicsomba-igaz-mesek/
END:VEVENT
END:VCALENDAR