BEGIN:VCALENDAR
VERSION:2.0
PRODID:-//eventon.com NONSGML v1.0//EN
CALSCALE:GREGORIAN
METHOD:PUBLISH
BEGIN:VEVENT
UID:69e8271e1b66d
DTSTAMP:20260422T034046
DTSTART:20230218T170000Z
DTEND:20230218T180000Z
TZID:Europe/Budapest
LOCATION:
SUMMARY:OMNIBUS-koncertek "Tánc és maszkabál!"
DESCRIPTION:&#8222;Zene komolyan mindenkinek!&#8221; A Surján Kamaraegyüttes klasszikus zenei sorozata\,  amely a házimuzsikálás hagyományát eleveníti fel. Családi koncert\,  ahová a felnőtteket a gyerekek is elkísérhetik. A kicsikkel zenepedagógus foglalkozik\,  hogy a szülők zavartalanul élvezhessék az előadást. A Megállóban mindannyian együtt muzsikálunk! A koncert előtt 15 perccel játékos &#8211; zenés ráhangolódás a[..]\nhttps://lovasut.hu/events/omnibus-koncertek-0218/
URL:https://lovasut.hu/events/omnibus-koncertek-0218/
END:VEVENT
END:VCALENDAR