BEGIN:VCALENDAR
VERSION:2.0
PRODID:-//eventon.com NONSGML v1.0//EN
CALSCALE:GREGORIAN
METHOD:PUBLISH
BEGIN:VEVENT
UID:69e8272e34ca6
DTSTAMP:20260422T034102
DTSTART:20230318T170000Z
DTEND:20230318T180000Z
TZID:Europe/Budapest
LOCATION:
SUMMARY:OMNIBUS-koncertek
DESCRIPTION:&#8222;Zene komolyan mindenkinek!&#8221; A Surján Kamaraegyüttes klasszikus zenei sorozata\,  amely a házimuzsikálás hagyományát eleveníti fel. Családi koncert\,  ahová a felnőtteket a gyerekek is elkísérhetik. A kicsikkel zenepedagógus foglalkozik\,  hogy a szülők zavartalanul élvezhessék az előadást. A Megállóban mindannyian együtt muzsikálunk! A gyermekeket várja Brebovszky Klára zenepedagógus és Földi Veronika óvodapedagógus.[..]\nhttps://lovasut.hu/events/omnibus-koncertek-0318/
URL:https://lovasut.hu/events/omnibus-koncertek-0318/
END:VEVENT
END:VCALENDAR