BEGIN:VCALENDAR
VERSION:2.0
PRODID:-//eventon.com NONSGML v1.0//EN
CALSCALE:GREGORIAN
METHOD:PUBLISH
BEGIN:VEVENT
UID:69e841b6cbc0e
DTSTAMP:20260422T053414
DTSTART:20221218T160000Z
DTEND:20221218T173000Z
TZID:Europe/Budapest
LOCATION:
SUMMARY:HANGRÓZSA
DESCRIPTION:Fellépnek az iskola gyermek és felnőtt növendékei. Meghívott vendégművész: Fejes Krisztina kétszeres Artisjus-díjas zongoraművész\,  a Fejes Művészeti Akadémia alapítója Az előadást vezeti: Juhász Balázs zongoratanár. A növendékek műsora A hazánkban alkalmazott alap- és középfokú zeneiskolai tananyag mellett az USA legnépszerűbb köteteiből szólalnak meg zeneművek\,  illetve a brit ABRSM vizsgaanyaga. Juhász[..]\nhttps://lovasut.hu/events/hangrozsa-1218/
URL:https://lovasut.hu/events/hangrozsa-1218/
END:VEVENT
END:VCALENDAR