BEGIN:VCALENDAR
VERSION:2.0
PRODID:-//eventon.com NONSGML v1.0//EN
CALSCALE:GREGORIAN
METHOD:PUBLISH
BEGIN:VEVENT
UID:69e841b6c61cc
DTSTAMP:20260422T053414
DTSTART:20230101T160000Z
DTEND:20230101T190000Z
TZID:Europe/Budapest
LOCATION:
SUMMARY:Énekeljétek át magatokat életetek legjobb évébe!
DESCRIPTION:Jól akarod indítani az évedet? Megviseltek az elmúlt év gyors és nyomasztó változásai\,  nem tiszták a céljaid\,  elfolyik az energiád\,  egyedül érzed magad? Kell egy erős\,  pozitív élmény\,  ahol megerősödsz\,  kell egy szeretetteljes közösség\,  ahová tartozol? Kell egy teremtő erejű konkrét eszköz\,  amely végre nem “agyas”\,  és tényleg működik egyéni[..]\nhttps://lovasut.hu/events/enekeljetek-at-magatokat-eletetek-legjobb-evebe-16/
URL:https://lovasut.hu/events/enekeljetek-at-magatokat-eletetek-legjobb-evebe-16/
END:VEVENT
END:VCALENDAR