BEGIN:VCALENDAR
VERSION:2.0
PRODID:-//eventon.com NONSGML v1.0//EN
CALSCALE:GREGORIAN
METHOD:PUBLISH
BEGIN:VEVENT
UID:69e61291e798f
DTSTAMP:20260420T134833
DTSTART:20230110T193000Z
DTEND:20230110T204500Z
TZID:Europe/Budapest
LOCATION:
SUMMARY:ITT EGY LÁNY ELÁSTA MAGÁT (és így nézzétek!)
DESCRIPTION:Álomrelé Vajon mennyire állunk dialógusban a tudatalattinkkal? Időnk nyilvánvalóan nincs ilyesmire\,  meg kell felelnünk a hétköznapok logikájának\,  a minket felépítő elvárásoknak\,  amennyiben színházzal foglalkozunk\,  a vélt vagy valós nézői elvárásoknak\,  az éppen aktuális színházi trendeknek\,  félelmeinknek\,  szorongásainknak\,  mely álmainkban csúfos bukásunk horrorisztikus képeit vetíti elénk. A primitív tudattalan\,  ösztöneink tárháza[..]\nhttps://lovasut.hu/events/itt-egy-lany-elasta-magat-es-igy-nezzetek/
URL:https://lovasut.hu/events/itt-egy-lany-elasta-magat-es-igy-nezzetek/
END:VEVENT
END:VCALENDAR