BEGIN:VCALENDAR
VERSION:2.0
PRODID:-//eventon.com NONSGML v1.0//EN
CALSCALE:GREGORIAN
METHOD:PUBLISH
BEGIN:VEVENT
UID:69e84112df18a
DTSTAMP:20260422T053130
DTSTART:20230107T180000Z
DTEND:20230107T193000Z
TZID:Europe/Budapest
LOCATION:
SUMMARY:Lanner Kvartett Újévi Koncert
DESCRIPTION:Szeretettel várja kedves barátait a Lanner Kvartett 2023-ban! Köszöntsük együtt az új évet egy pohár pezsgővel! A belépés ingyenes\,  de a Zenés Vendégség végén kérjük\,  hogy lehetőségéhez mérten támogassa a Lanner Kvartett Alapítvány munkáját hasonló rendezvények szervezése céljából. További információ: https://lannerkvartett.hu/ujevi-koncertek-2023 Közreműködik: Benedekffy Katalin énekesnő A kvartett tagjai: Selmeczi Gábor[..]\nhttps://lovasut.hu/events/lanner-kvartett-ujevi-koncert/
URL:https://lovasut.hu/events/lanner-kvartett-ujevi-koncert/
END:VEVENT
END:VCALENDAR