BEGIN:VCALENDAR
VERSION:2.0
PRODID:-//eventon.com NONSGML v1.0//EN
CALSCALE:GREGORIAN
METHOD:PUBLISH
BEGIN:VEVENT
UID:69e826e96d45d
DTSTAMP:20260422T033953
DTSTART:20230219T180000Z
DTEND:20230219T190000Z
TZID:Europe/Budapest
LOCATION:
SUMMARY:Encuentro
DESCRIPTION:https://youtu.be/MKbJ9LnRtlk Götz Nándor 1991-óta koncertezik hangszeres művészként Európa csaknem összes országában\,  valamint az USA-ban és Japánban. Fellépett többek között a Velencei Biennálén\,  a párizsi Opera Garnier-ben\,  a New York-i Licoln Center-ben és a londoni Barbican Hall-ban. Több mint 200 zenemű átiratát\,  és számos saját szerzeményét (többek között két szaxofonversenyét és[..]\nhttps://lovasut.hu/events/encuentro/
URL:https://lovasut.hu/events/encuentro/
END:VEVENT
END:VCALENDAR