BEGIN:VCALENDAR
VERSION:2.0
PRODID:-//eventon.com NONSGML v1.0//EN
CALSCALE:GREGORIAN
METHOD:PUBLISH
BEGIN:VEVENT
UID:69e840802dddc
DTSTAMP:20260422T052904
DTSTART:20230114T180000Z
DTEND:20230114T190000Z
TZID:Europe/Budapest
LOCATION:
SUMMARY:Évköszöntő koncert
DESCRIPTION:Nagy örömmel hirdetjük meg a Barcarola Kvartett első Évköszöntő Koncertjét! Változatos műsorral készülünk\,  szeretnénk bemutatni 2023-as terveinket. Egy-egy művet fogunk eljátszani azokból a műsorokból\,  amiket az év során előadunk majd: többfèle sílusból és korból származó zenéket\,  főleg saját hangszerelésben. Többet nem árulunk el a műsorból\,  legyen meglepetés! Az együttesről: A[..]\nhttps://lovasut.hu/events/evkoszonto-koncert/
URL:https://lovasut.hu/events/evkoszonto-koncert/
END:VEVENT
END:VCALENDAR