BEGIN:VCALENDAR
VERSION:2.0
PRODID:-//eventon.com NONSGML v1.0//EN
CALSCALE:GREGORIAN
METHOD:PUBLISH
BEGIN:VEVENT
UID:69e82761b0cd1
DTSTAMP:20260422T034153
DTSTART:20230319T100000Z
DTEND:20230319T113000Z
TZID:Europe/Budapest
LOCATION:
SUMMARY:Élőzenés hatha flow jóga
DESCRIPTION:Tematikus jógaórák élőzenével. Engedd\,  hogy a légzésed\,  az ászana és a zene egy egységet alkotva kalauzoljon a belső világodban. Kezdőként és haladóként is élmény\,  elmélyült gyakorlási lehetőség. A légzés és mozgás összhangja. Erősítés és nyújtás egyensúlya. Könnyen érthető instrukciók\,  hogy megérezd a tested határait és azokat tiszteletben tartva gyakorolj. Időpontok:[..]\nhttps://lovasut.hu/events/elozenes-hatha-flow-joga-0319/
URL:https://lovasut.hu/events/elozenes-hatha-flow-joga-0319/
END:VEVENT
END:VCALENDAR