BEGIN:VCALENDAR
VERSION:2.0
PRODID:-//eventon.com NONSGML v1.0//EN
CALSCALE:GREGORIAN
METHOD:PUBLISH
BEGIN:VEVENT
UID:69e8417520b5c
DTSTAMP:20260422T053309
DTSTART:20230109T174500Z
DTEND:20230109T191500Z
TZID:Europe/Budapest
LOCATION:
SUMMARY:A sárga tér
DESCRIPTION:A sárga akár\,  mint a nap\,  az energia egy térben\,  egy képben lehet az perzsa- \,  indiai- vagy nápolyi sárga&#8230; hogyan? ALKOTNI ÖRÖM! – Ha ismered ezt az érzést\,  akkor talán már terveid is vannak arra\,  hogyan építsd bele az alkotómunkát a jövődbe\,  a mindennapjaidba. Vagy éppen most fedezed fel[..]\nhttps://lovasut.hu/events/a-sarga-ter/
URL:https://lovasut.hu/events/a-sarga-ter/
END:VEVENT
END:VCALENDAR