BEGIN:VCALENDAR
VERSION:2.0
PRODID:-//eventon.com NONSGML v1.0//EN
CALSCALE:GREGORIAN
METHOD:PUBLISH
BEGIN:VEVENT
UID:69e597d6e135e
DTSTAMP:20260420T050454
DTSTART:20230224T190000Z
DTEND:20230224T200000Z
TZID:Europe/Budapest
LOCATION:
SUMMARY:Alaine - Ideje a meghalásnak
DESCRIPTION:„Hány évesnek érzem magam? A legtöbben azt mondják\,  hogy nem öregszenek lélekben. Egy barátnőm mondta volt\,  hogy olyan szörnyű nekem egy öregasszonnyal együtt élni. Mondom\,  de hát egyedül élsz! Azt mondja\,  de magammal. Van az emberben egy ilyen különös kettősség\,  nem mindenkinél\,  de nagyon sokan mondják\,  hogy belülről fiatalabbnak érzik[..]\nhttps://lovasut.hu/events/alaine-ideje-a-meghalasnak/
URL:https://lovasut.hu/events/alaine-ideje-a-meghalasnak/
END:VEVENT
END:VCALENDAR