BEGIN:VCALENDAR
VERSION:2.0
PRODID:-//eventon.com NONSGML v1.0//EN
CALSCALE:GREGORIAN
METHOD:PUBLISH
BEGIN:VEVENT
UID:69e8420b073da
DTSTAMP:20260422T053539
DTSTART:20230116T174500Z
DTEND:20230116T191500Z
TZID:Europe/Budapest
LOCATION:
SUMMARY:A kék idő
DESCRIPTION:A kék akár\,  égbolt\,  ami egy optikai csoda\,  de a benne megragadott pillanat az idő és a folyton változó megfigyelés &#8230;ahogy a csendélet képpé alakul. Mert&#8230; ALKOTNI ÖRÖM! – Ha ismered ezt az érzést\,  akkor talán már terveid is vannak arra\,  hogyan építsd bele az alkotómunkát a jövődbe\,  a mindennapjaidba.[..]\nhttps://lovasut.hu/events/a-kek-ido/
URL:https://lovasut.hu/events/a-kek-ido/
END:VEVENT
END:VCALENDAR