BEGIN:VCALENDAR
VERSION:2.0
PRODID:-//eventon.com NONSGML v1.0//EN
CALSCALE:GREGORIAN
METHOD:PUBLISH
BEGIN:VEVENT
UID:69e8269710717
DTSTAMP:20260422T033831
DTSTART:20230313T174500Z
DTEND:20230313T191500Z
TZID:Europe/Budapest
LOCATION:
SUMMARY:A vörös szín
DESCRIPTION:A vörös a legmegosztóbb szín\,  a kokcsinella a legvörösebb festőanyag\,  a cinóber a legélénkebb&#8230; a vörös\,  az alap színek legmerészebbike&#8230; dolgunk van vele! ALKOTNI ÖRÖM! – Ha ismered ezt az érzést\,  akkor talán már terveid is vannak arra\,  hogyan építsd bele az alkotómunkát a jövődbe\,  a mindennapjaidba. Vagy éppen most[..]\nhttps://lovasut.hu/events/a-voros-szin/
URL:https://lovasut.hu/events/a-voros-szin/
END:VEVENT
END:VCALENDAR