BEGIN:VCALENDAR
VERSION:2.0
PRODID:-//eventon.com NONSGML v1.0//EN
CALSCALE:GREGORIAN
METHOD:PUBLISH
BEGIN:VEVENT
UID:69e50a2fc465a
DTSTAMP:20260419T190031
DTSTART:20230320T160000Z
DTEND:20230320T173000Z
TZID:Europe/Budapest
LOCATION:
SUMMARY:A zöld párbeszéd
DESCRIPTION:A zöld szín\,  ma már egy szemlélet\,  bevon egy folyamatos párbeszédbe a környezettel\,  tudatosságot épít és a képalkotás realisztikus valóságában tarthat\,  azonban&#8230; ALKOTNI ÖRÖM! – Ha ismered ezt az érzést\,  akkor talán már terveid is vannak arra\,  hogyan építsd bele az alkotómunkát a jövődbe\,  a mindennapjaidba. Vagy éppen most fedezed[..]\nhttps://lovasut.hu/events/a-zold-parbeszed/
URL:https://lovasut.hu/events/a-zold-parbeszed/
END:VEVENT
END:VCALENDAR