BEGIN:VCALENDAR
VERSION:2.0
PRODID:-//eventon.com NONSGML v1.0//EN
CALSCALE:GREGORIAN
METHOD:PUBLISH
BEGIN:VEVENT
UID:69e82761b06e7
DTSTAMP:20260422T034153
DTSTART:20230208T170000Z
DTEND:20230208T190000Z
TZID:Europe/Budapest
LOCATION:
SUMMARY:Óvodakóstolgató - szülői fórum
DESCRIPTION:Szeretettel várunk minden kedves érdeklődőt az Óvodakóstolgató című rendezvényünkre. Téma: Ismerkedés a kerület óvodáival\,  tájékoztatás a hegyvidéki óvodák beiratkozási lehetőségeiről\,  az óvodába lépés feltételeiről.\nhttps://lovasut.hu/events/ovodakostolgato-szuloi-forum/
URL:https://lovasut.hu/events/ovodakostolgato-szuloi-forum/
END:VEVENT
END:VCALENDAR