BEGIN:VCALENDAR
VERSION:2.0
PRODID:-//eventon.com NONSGML v1.0//EN
CALSCALE:GREGORIAN
METHOD:PUBLISH
BEGIN:VEVENT
UID:69e8277298103
DTSTAMP:20260422T034210
DTSTART:20230326T180000Z
DTEND:20230326T203000Z
TZID:Europe/Budapest
LOCATION:
SUMMARY:Piano Day 2023 - A zongora napja
DESCRIPTION:„Miért van szüksége a világnak a Piano Dayre? Sok okból. De főleg azért\,  mert nem fáj megünnepelni a zongorát és mindent körülötte: az előadókat\,  a zeneszerzőket\,  a zongorakészítőket\,  a hangolókat\,  de legfőképp\,  a hallgatókat.” 2015-ben ezzel a kijelentésével indította útjára a Piano Day\,  azaz a Zongora Napjának kezdeményezését Nils Frahm\, [..]\nhttps://lovasut.hu/events/piano-day-2023-a-zongora-napja/
URL:https://lovasut.hu/events/piano-day-2023-a-zongora-napja/
END:VEVENT
END:VCALENDAR