BEGIN:VCALENDAR
VERSION:2.0
PRODID:-//eventon.com NONSGML v1.0//EN
CALSCALE:GREGORIAN
METHOD:PUBLISH
BEGIN:VEVENT
UID:69e80e10ef3b6
DTSTAMP:20260422T015352
DTSTART:20230423T164500Z
DTEND:20230423T180000Z
TZID:Europe/Budapest
LOCATION:
SUMMARY:OMNIBUS-koncertek
DESCRIPTION:&#8222;A virtuóz gordonka!&#8221; &#8222;Zene komolyan mindenkinek!&#8221; A Surján Kamaraegyüttes klasszikus zenei sorozata\,  amely a házimuzsikálás hagyományát eleveníti fel. Családi koncert\,  ahová a felnőtteket a gyerekek is elkísérhetik. A kicsikkel zenepedagógus foglalkozik\,  hogy a szülők zavartalanul élvezhessék az előadást. A Megállóban mindannyian együtt muzsikálunk! A koncert előtt 15 perccel játékos &#8211;[..]\nhttps://lovasut.hu/events/omnibus-koncertek-0423/
URL:https://lovasut.hu/events/omnibus-koncertek-0423/
END:VEVENT
END:VCALENDAR