BEGIN:VCALENDAR
VERSION:2.0
PRODID:-//eventon.com NONSGML v1.0//EN
CALSCALE:GREGORIAN
METHOD:PUBLISH
BEGIN:VEVENT
UID:69e826ba6dea7
DTSTAMP:20260422T033906
DTSTART:20230323T190000Z
DTEND:20230323T204000Z
TZID:Europe/Budapest
LOCATION:
SUMMARY:XX - #2. Kormos István
DESCRIPTION:A XX. század kiemelkedő írói és költői kerülnek a Petőfi Kulturális Ügynökség 2023-as irodalmi sorozatának a fókuszába\,  akik születésének vagy halálának idén kerek évfordulója van. Olyan neves írók estjeire kerül sor az idei évben\,  mint Nagy László és Szécsi Margit\,  Szőcs Géza\,  Petri György\,  Weöres Sándor és Károlyi Amy\,  Juhász[..]\nhttps://lovasut.hu/events/xx-2-kormos-istvan/
URL:https://lovasut.hu/events/xx-2-kormos-istvan/
END:VEVENT
END:VCALENDAR