BEGIN:VCALENDAR
VERSION:2.0
PRODID:-//eventon.com NONSGML v1.0//EN
CALSCALE:GREGORIAN
METHOD:PUBLISH
BEGIN:VEVENT
UID:69e8270dbc23d
DTSTAMP:20260422T034029
DTSTART:20230324T190000Z
DTEND:20230324T201500Z
TZID:Europe/Budapest
LOCATION:
SUMMARY:Szerepeink mögött (meg alatt\,  meg előtt) - kibeszélés
DESCRIPTION:Valóban fájna a színpadi halál? A bánat\,  az életképtelenség\,  a magány. Kit láthatunk és érezhetünk át a színről? A karaktert\,  vagy a színészt? Mennyi ebből a saját tapasztalat és mekkora a képzelet része? Mivel is éri el a rendező\,  hogy a színész kitárulkozzon? Kikényszeríti\,  vagy előédesgeti belőle? És mi marad[..]\nhttps://lovasut.hu/events/szerepeink-mogott-meg-alatt-meg-elott-kibeszeles/
URL:https://lovasut.hu/events/szerepeink-mogott-meg-alatt-meg-elott-kibeszeles/
END:VEVENT
END:VCALENDAR