BEGIN:VCALENDAR
VERSION:2.0
PRODID:-//eventon.com NONSGML v1.0//EN
CALSCALE:GREGORIAN
METHOD:PUBLISH
BEGIN:VEVENT
UID:69e8158adee86
DTSTAMP:20260422T022546
DTSTART:20230507T163000Z
DTEND:20230507T173000Z
TZID:Europe/Budapest
LOCATION:
SUMMARY:Rutkai Bori Banda és Danny Bain: Meseerdő koncert
DESCRIPTION:Zenés kalandra indulunk egy elvarázsolt erdőben. Dalról dalra változik körülöttünk a táj\,  hol egy duzsungelben találjuk magunkat egy majomünnepen\,  hol egy ázsiai pázsitra bukkannunk\,  ahol az égigérő fánál sámán dallal repülnek fel a szárnyas lovak a magasba. Jóboszik piknikeznek a Hordozható Tábortűz körül\,  Vándor-rock dobjai harsognak a sziklákon. A koncert[..]\nhttps://lovasut.hu/events/rutkai-bori-banda-es-danny-bain-meseerdo-koncert/
URL:https://lovasut.hu/events/rutkai-bori-banda-es-danny-bain-meseerdo-koncert/
END:VEVENT
END:VCALENDAR