BEGIN:VCALENDAR
VERSION:2.0
PRODID:-//eventon.com NONSGML v1.0//EN
CALSCALE:GREGORIAN
METHOD:PUBLISH
BEGIN:VEVENT
UID:69e80e3698358
DTSTAMP:20260422T015430
DTSTART:20230425T190000Z
DTEND:20230425T200000Z
TZID:Europe/Budapest
LOCATION:
SUMMARY:Oriolus kórus: Balladák
DESCRIPTION:Szeretettel hívunk meg bennetek következő koncertünkre\,  amelynek ismét a zugligeti Lóvasút ad helyszínt. Az év első koncertjének tematikája igen különleges\,  mert a balladák kerülnek középpontba. A ballada a népköltészetben és a szépirodalomban is jelentős zenei vonatkozással bír a középkortól kezdve. A műfaji elnevezés mondai tartalmú elbeszélő költeményt jelöl. Ez az[..]\nhttps://lovasut.hu/events/oriolus-korus-balladak/
URL:https://lovasut.hu/events/oriolus-korus-balladak/
END:VEVENT
END:VCALENDAR