BEGIN:VCALENDAR
VERSION:2.0
PRODID:-//eventon.com NONSGML v1.0//EN
CALSCALE:GREGORIAN
METHOD:PUBLISH
BEGIN:VEVENT
UID:69e80df2e32ff
DTSTAMP:20260422T015322
DTSTART:20230507T100000Z
DTEND:20230507T180000Z
TZID:Europe/Budapest
LOCATION:
SUMMARY:Zugligeti Családi Nap
DESCRIPTION:***Köszönjük a nagy érdeklődést a Lóvasút történetének első családi napjára! A programra az előregisztráció lezárult. A helyszínen a fennmaradó helyekre lesz lehetőség jegyváltásra.*** Egy olyan nap Zugliget szívében\,  a fákkal körülölelt Lóvasúton\,  mely kifejezetten a családoknak szól. A családi napon egész nap játszóházak\,  játékterek\,  kézműves foglalkozások\,  és az EBER desszertező[..]\nhttps://lovasut.hu/events/zugligeti-csaladi-nap/
URL:https://lovasut.hu/events/zugligeti-csaladi-nap/
END:VEVENT
END:VCALENDAR