BEGIN:VCALENDAR
VERSION:2.0
PRODID:-//eventon.com NONSGML v1.0//EN
CALSCALE:GREGORIAN
METHOD:PUBLISH
BEGIN:VEVENT
UID:69e80df2daf8b
DTSTAMP:20260422T015322
DTSTART:20230430T160000Z
DTEND:20230430T171500Z
TZID:Europe/Budapest
LOCATION:
SUMMARY:ETHNO HUNGARY koncert
DESCRIPTION:/HU/ Országhatárokon\,  óceánokon és kultúrákon átívelő utazásra invitálunk minden kalandos kedvű zenerajongót! Felnőtteket és gyerekeket\,  nagymamákat és nagybácsikat\,  jóbarátokat és első randisokat egyaránt várunk a Lóvasútra\,  egy egyszeri és megismételhetetlen zenés-táncos eseményre! Az Ethno Hungary projektzenekar 25 tagja 12 különböző országból érkezik\,  és ebben a felállásban csak egyetlenegy alkalommal koncerteznek[..]\nhttps://lovasut.hu/events/ethno-hungary-koncert/
URL:https://lovasut.hu/events/ethno-hungary-koncert/
END:VEVENT
END:VCALENDAR