BEGIN:VCALENDAR
VERSION:2.0
PRODID:-//eventon.com NONSGML v1.0//EN
CALSCALE:GREGORIAN
METHOD:PUBLISH
BEGIN:VEVENT
UID:69e80de3bb109
DTSTAMP:20260422T015307
DTSTART:20230526T170000Z
DTEND:20230526T193000Z
TZID:Europe/Budapest
LOCATION:
SUMMARY:Indigo Birds Jótékonysági Divatbemutató Est
DESCRIPTION:Egy rendkívüli jótékonysági divatbemutató estre hívunk minden kedves érdeklődőt\,  ahol öt kiemelkedő tehetség\,  négy divattervező és egy kiegészítő tervező mutatja be legújabb kollekcióit.🌸 Az est célja nem csupán a divat szeretete\,  hanem a jó szív és az összefogás is. Az esemény bevételét ugyanis jótékony célra ajánljuk fel\,  hogy segíthessünk azoknak\, [..]\nhttps://lovasut.hu/events/indigo-birds-jotekonysagi-divatbemutato-est/
URL:https://lovasut.hu/events/indigo-birds-jotekonysagi-divatbemutato-est/
END:VEVENT
END:VCALENDAR