BEGIN:VCALENDAR
VERSION:2.0
PRODID:-//eventon.com NONSGML v1.0//EN
CALSCALE:GREGORIAN
METHOD:PUBLISH
BEGIN:VEVENT
UID:69e80e66e7217
DTSTAMP:20260422T015518
DTSTART:20230519T200000Z
DTEND:20230519T211500Z
TZID:Europe/Budapest
LOCATION:
SUMMARY:Márfi Márk: Telik
DESCRIPTION:2021 augusztusának végén\,  a Lóvasút Kulturális és Rendezvénytérben mutatták be a Telik – egy óra az életedből című produkciót Márfi Márk játékával. Az előadás érdekessége\,  hogy egy szakdolgozatból született önadaptáció. Márfi Márk 2020-ban végzett az SZFE prózai színész szakán. Diplomamunkáját ugyanebben az évben\,  a tavaszi karantén alatt írta meg a[..]\nhttps://lovasut.hu/events/marfi-mark-telik-0519/
URL:https://lovasut.hu/events/marfi-mark-telik-0519/
END:VEVENT
END:VCALENDAR