BEGIN:VCALENDAR
VERSION:2.0
PRODID:-//eventon.com NONSGML v1.0//EN
CALSCALE:GREGORIAN
METHOD:PUBLISH
BEGIN:VEVENT
UID:69e80e550f098
DTSTAMP:20260422T015501
DTSTART:20230525T190000Z
DTEND:20230525T203000Z
TZID:Europe/Budapest
LOCATION:
SUMMARY:Üvegfal
DESCRIPTION:Dobray Sarolta könyvéből. Az Üvegfal Léna és Péter örvényszerű házasságát meséli el\,   a feleség és a férj szemszögéből egyaránt. Lassan\,  lépésenként bomlik ki és válik világossá\,  hogy valójában egy érzelmileg bántalmazó kapcsolattal állunk szemben.  Miért csinálja Péter? Miért hagyja Léna? Mi ez a gyakran eszméletvesztésig pörgő tánc? Szeretet\,  szerelem hajtja? Vagy[..]\nhttps://lovasut.hu/events/uvegfal-0525/
URL:https://lovasut.hu/events/uvegfal-0525/
END:VEVENT
END:VCALENDAR