BEGIN:VCALENDAR
VERSION:2.0
PRODID:-//eventon.com NONSGML v1.0//EN
CALSCALE:GREGORIAN
METHOD:PUBLISH
BEGIN:VEVENT
UID:69e80e550ad75
DTSTAMP:20260422T015501
DTSTART:20230611T160000Z
DTEND:20230611T174500Z
TZID:Europe/Budapest
LOCATION:
SUMMARY:A Hangrózsa Zeneiskola bemutató hangversenye
DESCRIPTION:A Hangrózsa XIX. bemutató hangversenye Fellépnek az iskola gyermek és felnőtt növendékei. Műsorukon az hazánkban\,  valamint az USA-ban használatos zeneiskolai tananyag\,  valamint az ABRSM vizsgaanyaga. Az előadást vezeti: Juhász Balázs\,  zongoratanár Meghívott vendégművész: Balogh Ádám\,  Junior Príma-díjas zongoraművész\,  a Cziffra fesztivál tehetségdíjasa\nhttps://lovasut.hu/events/a-hangrozsa-zeneiskola-bemutato-hangversenye/
URL:https://lovasut.hu/events/a-hangrozsa-zeneiskola-bemutato-hangversenye/
END:VEVENT
END:VCALENDAR