BEGIN:VCALENDAR
VERSION:2.0
PRODID:-//eventon.com NONSGML v1.0//EN
CALSCALE:GREGORIAN
METHOD:PUBLISH
BEGIN:VEVENT
UID:69e7f8669d1eb
DTSTAMP:20260422T002126
DTSTART:20230815T180000Z
DTEND:20230815T190000Z
TZID:Europe/Budapest
LOCATION:
SUMMARY:Psszt! Némafilmvetítés - Élő zongorakísérettel
DESCRIPTION:A hosszú\,  meleg\,  budapesti nyári estéken mi is lehetne jobb program\,  mint a fákkal körülölelt zugligeti Lóvasúton klasszikus némafilmeket nézni\,  miközben Répászky Miklós Dániel zongorajátékát hallgatjuk. Ha megéheznénk\,  a messze földön híres EBER desszertező kínálatából is válogathatunk. (A cukrászda 19 óráig tart nyitva!) A Lóvasút falán klasszikus rajzfilmek és igazi[..]\nhttps://lovasut.hu/events/psszt-nemafilmvetites-elo-zongorakiserettel-0815/
URL:https://lovasut.hu/events/psszt-nemafilmvetites-elo-zongorakiserettel-0815/
END:VEVENT
END:VCALENDAR