BEGIN:VCALENDAR
VERSION:2.0
PRODID:-//eventon.com NONSGML v1.0//EN
CALSCALE:GREGORIAN
METHOD:PUBLISH
BEGIN:VEVENT
UID:69e7f83e96768
DTSTAMP:20260422T002046
DTSTART:20230830T190000Z
DTEND:20230830T203000Z
TZID:Europe/Budapest
LOCATION:
SUMMARY:Psszt! Némafilmvetítés - Élő zongorakísérettel
DESCRIPTION:A hosszú\,  meleg\,  budapesti nyári estéken mi is lehetne jobb program\,  mint a fákkal körülölelt zugligeti Lóvasúton klasszikus némafilmeket nézni\,  miközben Répászky Miklós Dániel zongorajátékát hallgatjuk. Ha megéheznénk\,  a messze földön híres EBER desszertező kínálatából is válogathatunk. (A cukrászda 19 óráig tart nyitva!) A Lóvasút falán klasszikus rajzfilmek és igazi[..]\nhttps://lovasut.hu/events/psszt-nemafilmvetites-elo-zongorakiserettel-0830/
URL:https://lovasut.hu/events/psszt-nemafilmvetites-elo-zongorakiserettel-0830/
END:VEVENT
END:VCALENDAR