BEGIN:VCALENDAR
VERSION:2.0
PRODID:-//eventon.com NONSGML v1.0//EN
CALSCALE:GREGORIAN
METHOD:PUBLISH
BEGIN:VEVENT
UID:69e7f7b8b69b9
DTSTAMP:20260422T001832
DTSTART:20230918T190000Z
DTEND:20230918T200000Z
TZID:Europe/Budapest
LOCATION:
SUMMARY:Élő szó\,  élő kenyér 2. - Lackfi János és Véssey Miklós Irodalmi estje
DESCRIPTION:Lackfi János most újabb író kollégájával lép fel\,  beszélgetésük során így régi vágya kezd valóra válni\,  hogy minél többen megismerhessük a szakralitás témában gondolkodó\,  alkotó írókat\,  költőket. Véssey Miklós 1990-ben született Budapesten. Szépirodalmi szövegeket szerkeszt és ír\,  2016 óta publikál\,  elsősorban novellákat és verseket. Budakeszin él és dolgozik\,  két gyermek[..]\nhttps://lovasut.hu/events/elo-szo-elo-kenyer-2/
URL:https://lovasut.hu/events/elo-szo-elo-kenyer-2/
END:VEVENT
END:VCALENDAR