BEGIN:VCALENDAR
VERSION:2.0
PRODID:-//eventon.com NONSGML v1.0//EN
CALSCALE:GREGORIAN
METHOD:PUBLISH
BEGIN:VEVENT
UID:69eaa5df8765d
DTSTAMP:20260424T010607
DTSTART:20231016T190000Z
DTEND:20231016T200000Z
TZID:Europe/Budapest
LOCATION:
SUMMARY:Haydnnal Párizsban - Haydn és a szabadkőművesek
DESCRIPTION:Haydnnal Párizsban? Egy városban\,  ahol ő sose járt? Igen! A 18. századi francia főváros zenei és kulturális életéről\,  a szabadkőművesekről és Joseph Haydn hat “Párizsi” szimfóniájáról szól Bősze Ádám legújabb előadás-sorozata. Időpont: 2023. október 16. 19:00 Helyszín: Lóvasút Kulturális &#038; Rendezvényközpont Előadó: Bősze Ádám zenetörténész További információ: www.haydneum.com Az előadásról[..]\nhttps://lovasut.hu/events/haydnnal-parizsban-haydn-es-a-szabadkomuvesek/
URL:https://lovasut.hu/events/haydnnal-parizsban-haydn-es-a-szabadkomuvesek/
END:VEVENT
END:VCALENDAR