BEGIN:VCALENDAR
VERSION:2.0
PRODID:-//eventon.com NONSGML v1.0//EN
CALSCALE:GREGORIAN
METHOD:PUBLISH
BEGIN:VEVENT
UID:69e7a427d23dc
DTSTAMP:20260421T182159
DTSTART:20231001T100000Z
DTEND:20231001T200000Z
TZID:Europe/Budapest
LOCATION:
SUMMARY:Zugligeti Családi Nap – október 1.
DESCRIPTION:Az ősz beköszöntését a Zugliget egyik legszebb fákkal körülölelt kis szegletében\,  a Lóvasúton is megünnepeljük\,  ugyanis a Lóvasút idén is csatlakozik a Hegyvidéki Önkormányzat és a MOMkult közös szervezésében megvalósuló Hegyvidéki Ősz programsorozathoz. Bábelőadás\,  kézműves foglalkozás\,  kortárs zenei koncert festéssel\,  helytörténeti séta és country-folk koncert várja a látogatókat. Programok: 10:00-12:00[..]\nhttps://lovasut.hu/events/zugligeti-csaladi-nap-oktober-1/
URL:https://lovasut.hu/events/zugligeti-csaladi-nap-oktober-1/
END:VEVENT
END:VCALENDAR