BEGIN:VCALENDAR
VERSION:2.0
PRODID:-//eventon.com NONSGML v1.0//EN
CALSCALE:GREGORIAN
METHOD:PUBLISH
BEGIN:VEVENT
UID:69e7f86e13ec5
DTSTAMP:20260422T002134
DTSTART:20231004T100000Z
DTEND:20231004T120000Z
TZID:Europe/Budapest
LOCATION:
SUMMARY:Gyógynövényséta a természetgyógyásszal
DESCRIPTION:Egészségmegőrző séta vadnövények felfedezésével\,  ajándék VADON NŐTT ÉTTEREM című e-könyvvel. „Ha valaha az életben bánatos leszel\,  mindig menj ki egy közeli erdőbe és minden fában\,  minden bokorban\,  minden növényben és állatban érezni fogod Isten jóságát és mindenhatóságát.” A könnyű testmozgás közben kisebb pihenőket tartunk\,  amikor megismerkedünk egy-egy gyógynövénnyel\,  bepillantunk a[..]\nhttps://lovasut.hu/events/gyogynovenyseta-a-termeszetgyogyasszal-1004/
URL:https://lovasut.hu/events/gyogynovenyseta-a-termeszetgyogyasszal-1004/
END:VEVENT
END:VCALENDAR