BEGIN:VCALENDAR
VERSION:2.0
PRODID:-//eventon.com NONSGML v1.0//EN
CALSCALE:GREGORIAN
METHOD:PUBLISH
BEGIN:VEVENT
UID:69e7f83e9ca96
DTSTAMP:20260422T002046
DTSTART:20231019T170000Z
DTEND:20231019T200000Z
TZID:Europe/Budapest
LOCATION:
SUMMARY:Palya Bea: Ahh\, ahh… avagy a hang és a szexualitás
DESCRIPTION:Énekes\,  “hangokkal játszós” workshop Palya Beával Hiányzik a szívbéli szexualitás az életedből? Unod a bejáratott útvonalakat? Kész vagy felrázni a szexuális életedet a hangod erejével és bölcsességével? A missziód ezen a 3 órás workshopon az\,  hogy összekapcsold a hangadást a szexualitással\,  és e két dologra olyan eszközként tekints\,  amelyek által[..]\nhttps://lovasut.hu/events/palya-bea-ahhahh-avagy-a-hang-es-a-szexualitas/
URL:https://lovasut.hu/events/palya-bea-ahhahh-avagy-a-hang-es-a-szexualitas/
END:VEVENT
END:VCALENDAR