BEGIN:VCALENDAR
VERSION:2.0
PRODID:-//eventon.com NONSGML v1.0//EN
CALSCALE:GREGORIAN
METHOD:PUBLISH
BEGIN:VEVENT
UID:69e74b8c5ee2e
DTSTAMP:20260421T120356
DTSTART:20231210T103000Z
DTEND:20231210T111500Z
TZID:Europe/Budapest
LOCATION:
SUMMARY:Leszállt az ég dicső királya
DESCRIPTION:A betlehemes játék\,  vagyis a betlehemezés az adventi-karácsonyi időszak népi misztérium játéka. Központi eleme egy házilag készített\,  templom alakú betlehem\,  amivel a betlehemezők házról-házra jártak. A Leszállt az ég dicső királya egyszemélyes betlehemes előadás\,  amely ötvözi az adventi és karácsonyi népi színjátékok szinte minden fajtáját: a szálláskereső-\,  a csillagozó-\,  a[..]\nhttps://lovasut.hu/events/leszallt-az-eg-dicso-kiralya/
URL:https://lovasut.hu/events/leszallt-az-eg-dicso-kiralya/
END:VEVENT
END:VCALENDAR