BEGIN:VCALENDAR
VERSION:2.0
PRODID:-//eventon.com NONSGML v1.0//EN
CALSCALE:GREGORIAN
METHOD:PUBLISH
BEGIN:VEVENT
UID:69e7e62b83a4c
DTSTAMP:20260421T230339
DTSTART:20231119T103000Z
DTEND:20231119T111500Z
TZID:Europe/Budapest
LOCATION:
SUMMARY:Kicsibácsi és Kicsinéni (meg az Imikém)
DESCRIPTION:Kompánia Színházi Társulat bemutatja: Kicsibácsi és Kicsinéni (meg az Imikém) Interaktív bábelőadás kicsiknek és nagyobbaknak Dániel András azonos című könyve alapján. Nem lehet mindenki nagy. De aki kicsi\,  lakhat dióban\,  Imikémmel\,  a felhúzható bádognyúllal és a szél varázslatos helyekre repítheti. Például egy késő őszi vasárnap reggelen a Lóvasút Kulturális és[..]\nhttps://lovasut.hu/events/kicsibacsi-es-kicsineni-meg-az-imikem/
URL:https://lovasut.hu/events/kicsibacsi-es-kicsineni-meg-az-imikem/
END:VEVENT
END:VCALENDAR