BEGIN:VCALENDAR
VERSION:2.0
PRODID:-//eventon.com NONSGML v1.0//EN
CALSCALE:GREGORIAN
METHOD:PUBLISH
BEGIN:VEVENT
UID:69e7dbfcb9b52
DTSTAMP:20260421T222012
DTSTART:20231125T170000Z
DTEND:20231125T190000Z
TZID:Europe/Budapest
LOCATION:
SUMMARY:No. 2.: Mi a világ?
DESCRIPTION:1 ELŐADÁS &#8211; 3 ÉLMÉNY FELOLVASÁS &#8211; MEDITÁCIÓ &#8211; TANÍTÁS Fenyő Iván júniusi\,  bevezető előadásán tett ígérete szerint\,  ősztől havi-két havi alkalommal elkalauzol bennünket az önismeret és a spiritualitás főbb bugyraiba. Az első pár előadást az ALAPOKNÁL kezdi. Úgy\,  mint kik vagyunk\,  mi ez a hely ahova jöttünk tapasztalni\,  élni\, [..]\nhttps://lovasut.hu/events/mi-a-vilag/
URL:https://lovasut.hu/events/mi-a-vilag/
END:VEVENT
END:VCALENDAR