BEGIN:VCALENDAR
VERSION:2.0
PRODID:-//eventon.com NONSGML v1.0//EN
CALSCALE:GREGORIAN
METHOD:PUBLISH
BEGIN:VEVENT
UID:69e7c5aaafe7d
DTSTAMP:20260421T204458
DTSTART:20240219T190000Z
DTEND:20240219T200000Z
TZID:Europe/Budapest
LOCATION:
SUMMARY:Haydnnal Párizsban - Esz-dúr szimfónia No. 84.
DESCRIPTION:Haydnnal Párizsban? Egy városban\,  ahol ő sose járt? Igen! A 18. századi francia főváros zenei és kulturális életéről\,  a szabadkőművesekről és Joseph Haydn hat “Párizsi” szimfóniájáról szól Bősze Ádám legújabb előadás-sorozata. Első alkalom: 2023. október 16. 19:00 Helyszín: Lóvasút Kulturális &amp; Rendezvényközpont Előadó: Bősze Ádám zenetörténész További információ: www.haydneum.com Az[..]\nhttps://lovasut.hu/events/haydnnal-parizsban-0219/
URL:https://lovasut.hu/events/haydnnal-parizsban-0219/
END:VEVENT
END:VCALENDAR