BEGIN:VCALENDAR
VERSION:2.0
PRODID:-//eventon.com NONSGML v1.0//EN
CALSCALE:GREGORIAN
METHOD:PUBLISH
BEGIN:VEVENT
UID:69e7e26122589
DTSTAMP:20260421T224729
DTSTART:20231223T190000Z
DTEND:20231223T203000Z
TZID:Europe/Budapest
LOCATION:
SUMMARY:winter songs | eklekta | filmhatás
DESCRIPTION:Szenteste előtt egyetlen nappal már a karácsonyé a főszerep. Ilyenkor jó kicsit megállni\,  hogy a korábbi napok &#8211; sokszor rohanással teli &#8211; készülődésében ne csak beessünk a karácsonyfa alá\,  hanem valóban\,  lélekben felkészülten érjen minket az év legérzelmesebb ünnepe. Ebben próbál segíteni az Eklekta Kamarakórus és a Filmhatás Csoport ezzel[..]\nhttps://lovasut.hu/events/winter-songs-eklekta-filmhatas/
URL:https://lovasut.hu/events/winter-songs-eklekta-filmhatas/
END:VEVENT
END:VCALENDAR