BEGIN:VCALENDAR
VERSION:2.0
PRODID:-//eventon.com NONSGML v1.0//EN
CALSCALE:GREGORIAN
METHOD:PUBLISH
BEGIN:VEVENT
UID:69e5f4fd98b17
DTSTAMP:20260420T114221
DTSTART:20240414T164500Z
DTEND:20240414T180000Z
TZID:Europe/Budapest
LOCATION:
SUMMARY:OMNIBUS-koncertek
DESCRIPTION:&#8222;Zene komolyan mindenkinek!&#8221; A Surján Kamaraegyüttes klasszikus zenei sorozata\,  amely a házimuzsikálás hagyományát eleveníti fel. Családi koncert\,  ahová a felnőtteket a gyerekek is elkísérhetik. A kicsikkel zenepedagógus foglalkozik\,  hogy a szülők zavartalanul élvezhessék az előadást. A Megállóban mindannyian együtt muzsikálunk! A koncert előtt 15 perccel játékos &#8211; zenés ráhangolódás a[..]\nhttps://lovasut.hu/events/omnibus-koncertek-0413/
URL:https://lovasut.hu/events/omnibus-koncertek-0413/
END:VEVENT
END:VCALENDAR