BEGIN:VCALENDAR
VERSION:2.0
PRODID:-//eventon.com NONSGML v1.0//EN
CALSCALE:GREGORIAN
METHOD:PUBLISH
BEGIN:VEVENT
UID:69e7c58cee570
DTSTAMP:20260421T204428
DTSTART:20240512T164500Z
DTEND:20240512T180000Z
TZID:Europe/Budapest
LOCATION:
SUMMARY:OMNIBUS-koncertek
DESCRIPTION:&#8222;Zene komolyan mindenkinek!&#8221; A Surján Kamaraegyüttes klasszikus zenei sorozata\,  amely a házimuzsikálás hagyományát eleveníti fel. Családi koncert\,  ahová a felnőtteket a gyerekek is elkísérhetik. A kicsikkel zenepedagógus foglalkozik\,  hogy a szülők zavartalanul élvezhessék az előadást. A Megállóban mindannyian együtt muzsikálunk! A május 12-i alkalom címe: A kamarazene születése és virágzása[..]\nhttps://lovasut.hu/events/omnibus-koncertek-0512/
URL:https://lovasut.hu/events/omnibus-koncertek-0512/
END:VEVENT
END:VCALENDAR