BEGIN:VCALENDAR
VERSION:2.0
PRODID:-//eventon.com NONSGML v1.0//EN
CALSCALE:GREGORIAN
METHOD:PUBLISH
BEGIN:VEVENT
UID:69e7e0e8c4ed7
DTSTAMP:20260421T224112
DTSTART:20240105T180000Z
DTEND:20240105T193000Z
TZID:Europe/Budapest
LOCATION:
SUMMARY:Lanner Kvartett Újévi Koncert
DESCRIPTION:Szeretettel várja kedves barátait a Lanner Kvartett 2023-ban! Köszöntsük együtt az új évet egy pohár pezsgővel! A belépés ingyenes\,  de a Zenés Vendégség végén kérjük\,  hogy lehetőségéhez mérten támogassa a Lanner Kvartett Alapítvány munkáját hasonló rendezvények szervezése céljából. Regisztrációs link: https://lannerkvartett.hu/ujevi-koncertek-2024 A kvartett tagjai: Selmeczi Gábor &#8211; hegedű Boda Nóra[..]\nhttps://lovasut.hu/events/lanner-kvartett-ujevi-koncert-0105/
URL:https://lovasut.hu/events/lanner-kvartett-ujevi-koncert-0105/
END:VEVENT
END:VCALENDAR