BEGIN:VCALENDAR
VERSION:2.0
PRODID:-//eventon.com NONSGML v1.0//EN
CALSCALE:GREGORIAN
METHOD:PUBLISH
BEGIN:VEVENT
UID:69e7e71eb621a
DTSTAMP:20260421T230742
DTSTART:20240126T190000Z
DTEND:20240126T200000Z
TZID:Europe/Budapest
LOCATION:
SUMMARY:KL Színház: Anyajegy
DESCRIPTION:“Döbbentem tapasztalom\,  hogy hiába vagyok a közepén az életemnek\,  hiába vagyok én a Mama\,  mégsem vagyok az a nagy és mindenható lény\,  akinek annak idején az éppen ennyi idős szüleimet láttam. Felnőtt vagyok\,  de nem vagyok eléggé erős.” Előadás születésről és halálról\,  anyákról és gyerekekről\,  férfiakról és nőkről. Az élet[..]\nhttps://lovasut.hu/events/kl-szinhaz-anyajegy/
URL:https://lovasut.hu/events/kl-szinhaz-anyajegy/
END:VEVENT
END:VCALENDAR