BEGIN:VCALENDAR
VERSION:2.0
PRODID:-//eventon.com NONSGML v1.0//EN
CALSCALE:GREGORIAN
METHOD:PUBLISH
BEGIN:VEVENT
UID:69e7e0641bec4
DTSTAMP:20260421T223900
DTSTART:20240118T190000Z
DTEND:20240118T200000Z
TZID:Europe/Budapest
LOCATION:
SUMMARY:Lópánik a Lóvasúton
DESCRIPTION:Tornyai Péter: RONDeau Tornyai Péter RONDeau című kísérlete egy kifordított körtánc\,  ahol három dobos ütésein keresztül jön létre a hangok térbeli mozgása\,  keringése. A cím utal erre a körtáncra\,  illetve az állapotok újra és újra visszatérésének formájára. Ez az út azonban nem annyira kör- mint inkább spirál-szerű. A dobolás és[..]\nhttps://lovasut.hu/events/lopanik-a-lovasuton/
URL:https://lovasut.hu/events/lopanik-a-lovasuton/
END:VEVENT
END:VCALENDAR