BEGIN:VCALENDAR
VERSION:2.0
PRODID:-//eventon.com NONSGML v1.0//EN
CALSCALE:GREGORIAN
METHOD:PUBLISH
BEGIN:VEVENT
UID:69e7c5aaad935
DTSTAMP:20260421T204458
DTSTART:20240222T190000Z
DTEND:20240222T203000Z
TZID:Europe/Budapest
LOCATION:
SUMMARY:Mikszáth Kálmán - Fabók Mariann: A fekete kakas
DESCRIPTION:Az irodalomtörténészek egyöntetű méltatása szerint Mikszáth Kálmán egyik legművészibb alkotása A fekete kakas\,  mégis rejtélyes okokból hangsúlytalan darabja maradt a mikszáthi életműnek. Ezért is lehetséges\,  hogy csupán most látható először színpadon. A „nagy palóc mesemondó” utánozhatatlan humorával elénk tárt misztikus történet\,  Kupolyi figuráján keresztül élesen rávilágít\,  hogy mennyire megdöbbentő is[..]\nhttps://lovasut.hu/events/mikszath-kalman-fabok-mariann-a-fekete-kakas/
URL:https://lovasut.hu/events/mikszath-kalman-fabok-mariann-a-fekete-kakas/
END:VEVENT
END:VCALENDAR