BEGIN:VCALENDAR
VERSION:2.0
PRODID:-//eventon.com NONSGML v1.0//EN
CALSCALE:GREGORIAN
METHOD:PUBLISH
BEGIN:VEVENT
UID:69e7e22674ca5
DTSTAMP:20260421T224630
DTSTART:20240101T100000Z
DTEND:20240101T130000Z
TZID:Europe/Budapest
LOCATION:
SUMMARY:Énekeljétek át magatokat életetek legjobb évébe // Délelőtt
DESCRIPTION:Jól akarod indítani az évedet? Megviseltek az elmúlt év gyors és nyomasztó változásai\,  nem tiszták a céljaid\,  elfolyik az energiád\,  egyedül érzed magad? Kell egy erős\,  pozitív élmény\,  ahol megerősödsz\,  kell egy szeretetteljes közösség\,  ahová tartozol? Kell egy teremtő erejű konkrét eszköz\,  amely végre nem “agyas”\,  és tényleg működik egyéni[..]\nhttps://lovasut.hu/events/enekeljetek-at-magatokat-eletetek-legjobb-evebe-delelott/
URL:https://lovasut.hu/events/enekeljetek-at-magatokat-eletetek-legjobb-evebe-delelott/
END:VEVENT
END:VCALENDAR