BEGIN:VCALENDAR
VERSION:2.0
PRODID:-//eventon.com NONSGML v1.0//EN
CALSCALE:GREGORIAN
METHOD:PUBLISH
BEGIN:VEVENT
UID:69e7e0641b957
DTSTAMP:20260421T223900
DTSTART:20231230T180000Z
DTEND:20231230T200000Z
TZID:Europe/Budapest
LOCATION:
SUMMARY:Indiai utazásom története
DESCRIPTION:FENYŐ IVÁN ÖNISMERETI ELVONULÁSÁNAK TÖRTÉNETE ELŐADÁSBAN &#8211; MEDITÁCIÓVAL EGYBEKÖTVE Iván sokszor sok helyen járt már a Földön. Rendszeresen elvonul Isten háta mögötti helyekre hónapokra és kapcsolódik önmagához és az ottani energiákhoz. Gyakorlatokat végez\,  megismerkedik az ottani kultúrával és tanítókkal\,  gyógyítókkal. Indiában még nem járt ezelőtt. Most megvolt az első indiai[..]\nhttps://lovasut.hu/events/fenyo-ivan-indiai-utazas/
URL:https://lovasut.hu/events/fenyo-ivan-indiai-utazas/
END:VEVENT
END:VCALENDAR