BEGIN:VCALENDAR
VERSION:2.0
PRODID:-//eventon.com NONSGML v1.0//EN
CALSCALE:GREGORIAN
METHOD:PUBLISH
BEGIN:VEVENT
UID:69e7c58ced408
DTSTAMP:20260421T204428
DTSTART:20240324T103000Z
DTEND:20240324T114000Z
TZID:Europe/Budapest
LOCATION:
SUMMARY:Góbi Rita Társulat: Hacukaland
DESCRIPTION:Március 24-én Góbi Rita különleges mozgásszínházzal egybekötött táncos előadása lesz látható a zugligeti Lóvasúton! Góbi Rita Társulat: Hacukaland Táncos öltözőshow gyerekeknek. Mozgásfoglalkozással egybekötött táncos előadás. Góbi Rita – a Magyar Táncművészeti Főiskolán diplomázott táncművész\,  koreográfus\,  táncpedagógus – interaktív táncelőadása a legkisebbek számára. Hogyan indul egy átlagos nap? Kiugrunk az ágyból\, [..]\nhttps://lovasut.hu/events/gobi-rita-tarsulat-hacukaland/
URL:https://lovasut.hu/events/gobi-rita-tarsulat-hacukaland/
END:VEVENT
END:VCALENDAR