BEGIN:VCALENDAR
VERSION:2.0
PRODID:-//eventon.com NONSGML v1.0//EN
CALSCALE:GREGORIAN
METHOD:PUBLISH
BEGIN:VEVENT
UID:69e7c534d7237
DTSTAMP:20260421T204300
DTSTART:20240406T193000Z
DTEND:20240406T211000Z
TZID:Europe/Budapest
LOCATION:
SUMMARY:Chameleon Jazz Band
DESCRIPTION:2024. április 6-án\,  szombaton este fél nyolckor a Chameleon Jazz Band hatodik alkalommal lép színpadra a zugligeti Lóvasút Kulturális és Rendezvényközpontban\,  minden bizonnyal ismét telt ház előtt. Az esemény a jelenleg is zajló jubileumi turné részeként kerül megrendezésre\,  mely a hazai helyszíneken kívül érinti Ausztriát\,  Csehországot\,  Németországot\,  Romániát\,  Szerbiát\,  valamint[..]\nhttps://lovasut.hu/events/chameleon-jazz-band-2/
URL:https://lovasut.hu/events/chameleon-jazz-band-2/
END:VEVENT
END:VCALENDAR